Workbook

Sheet Encounters List
A1: Maps, Encounters, Tokens, and XP List | E1: Average Party Level | F1: 1 | G1: # Players | H1: 4
D2: Some creatures optionally appear in different locations in the same area.
A3: The maps in BLUE are the those I will have for sale on DMs Guild | F3: XP totals include friendly creatures.
A4: The maps in ORANGE are the those that are free in this google drive
A6: Map | B6: Size WxH Inches | C6: Encounter | D6: Tokens | E6: XP | F6: # Enemies | G6: Adjusted XP | H6: Difficulty
A7: Chapter 1: A Dangerous Journey
A8: 1-01 Goblin Ambush | B8: 19x27 | C8: Goblin Ambush | D8: 4 Goblin | E8: =4*50 -> 200 | F8: 4 | G8: =$E8*VLOOKUP($F8,'XP Tables'!$K$2:$L$7,2,TRUE) -> 400 | H8: =VLOOKUP(G8/$H$1,'XP Tables'!$O$2:$P$9,2,TRUE) -> Deadly
A9: 1-02 Cragmore Hideout | B9: 28x19 | D9: 14 Goblin | E9: - | F9: - | G9: - | H9: -
C10: H1: Cave Mouth | E10: - | F10: - | G10: - | H10: -
C11: H2: Goblin Guard Post | D11: 2 Goblin, Goblin Boss | E11: =2*50+200 -> 300 | F11: 3 | G11: =$E11*VLOOKUP($F11,'XP Tables'!$K$2:$L$7,2,TRUE) -> 600 | H11: =VLOOKUP(G11/$H$1,'XP Tables'!$O$2:$P$9,2,TRUE) -> Deadly
C12: H3: Kennel | D12: 3 Wolf | E12: =3*50 -> 150 | F12: 3 | G12: =$E12*VLOOKUP($F12,'XP Tables'!$K$2:$L$7,2,TRUE) -> 300 | H12: =VLOOKUP(G12/$H$1,'XP Tables'!$O$2:$P$9,2,TRUE) -> Hard
C13: H4: Steep Passage | D13: Giant Poisonous Snake | E13: =50 -> 50 | F13: 1 | G13: =$E13*VLOOKUP($F13,'XP Tables'!$K$2:$L$7,2,TRUE) -> 50 | H13: =VLOOKUP(G13/$H$1,'XP Tables'!$O$2:$P$9,2,TRUE) -> Trivial
C14: H5: Overpass | D14: 1 Goblin | E14: =50 -> 50 | F14: 1 | G14: =$E14*VLOOKUP($F14,'XP Tables'!$K$2:$L$7,2,TRUE) -> 50 | H14: =VLOOKUP(G14/$H$1,'XP Tables'!$O$2:$P$9,2,TRUE) -> Trivial
C15: H6: Goblin Den | D15: 5 Goblin, Sildar Hallwinter, Yeemik, Errk | E15: =5*50+200+200 -> 650 | F15: 7 | G15: =$E15*VLOOKUP($F15,'XP Tables'!$K$2:$L$7,2,TRUE) -> 1625 | H15: =VLOOKUP(G15/$H$1,'XP Tables'!$O$2:$P$9,2,TRUE) -> 4 x Deadly or more
C16: H7: Twin Pools Cave | D16: 3 Goblin, 2 Wolf | E16: =3*50+2*50 -> 250 | F16: 5 | G16: =$E16*VLOOKUP($F16,'XP Tables'!$K$2:$L$7,2,TRUE) -> 500 | H16: =VLOOKUP(G16/$H$1,'XP Tables'!$O$2:$P$9,2,TRUE) -> Deadly
C17: H8: Klarg’s Cave | D17: Klarg, Ripper, 2 Goblin | E17: =200+50+2*50 -> 350 | F17: 4 | G17: =$E17*VLOOKUP($F17,'XP Tables'!$K$2:$L$7,2,TRUE) -> 700 | H17: =VLOOKUP(G17/$H$1,'XP Tables'!$O$2:$P$9,2,TRUE) -> Deadly
A19: Chapter 2: Trouble in Phandalin | D19: 5 Commoner Male, 5 Commoner Female
A20: 2-01 Phandalin Town Centre | B20: 120x120 | C20: Stonehill Inn, Shrine of Luck, Lionshield Coster, Townmaster’s Hall, Barthen’s Provisions, Phandalin Miner’s Exchange, Woodworker, Alderleaf Farm, The Sleeping Giant, Thawnia Browne, Aida Camber, Cathlette Camber, Nalpina Goldstone, Mildra Merkel, Oskar Ninebough, Shansa, Hovnar Tartesh, Menvin Tartesh, Unmiel, Wramble | D20: Toblen Stonehill, Narth, Elsa, Lanar, Trilena Stonehill, Pip, Freda, Sister Garaele, Linene Graywind, Harbin Wester, Elmina Barthen, Ander, Thistle, Halia Thornton, Qelline Alderleaf, Carp, Daran Edermath, Sildar Hallwinter, Grista, 4 Redbrand Ruffian, Wheel-of-Fortune, Halfling Female, Human Miner, Elf Baker, Human Female, Toddler, Human Male, Gwyn Oresong, Tamara Stonehill
A21: 2-02 Tresendar Manor | B21: 32x20 | C21: Tresendar Manor | E21: - | F21: - | G21: - | H21: -
A22: 2-03 Redbrand Hideout | B22: 28x19 | E22: - | F22: - | G22: - | H22: -
C23: R1: Cellar | E23: - | F23: - | G23: - | H23: -
C24: R2: Barracks | D24: 3 Bandit | E24: =3*25 -> 75 | F24: 3 | G24: =$E24*VLOOKUP($F24,'XP Tables'!$K$2:$L$7,2,TRUE) -> 150 | H24: =VLOOKUP(G24/$H$1,'XP Tables'!$O$2:$P$9,2,TRUE) -> Easy
C25: R3: Trapped Hall | E25: - | F25: - | G25: - | H25: -
C26: R4: Tresendar Crypts | D26: 6 Skeleton | E26: =6*50 -> 300 | F26: 6 | G26: =$E26*VLOOKUP($F26,'XP Tables'!$K$2:$L$7,2,TRUE) -> 600 | H26: =VLOOKUP(G26/$H$1,'XP Tables'!$O$2:$P$9,2,TRUE) -> Deadly
C27: R5: Holding Cells | D27: 3 Bandit, Mirna Dendrar, Nars, Nilsa | E27: =3*100 -> 300 | F27: 3 | G27: =$E27*VLOOKUP($F27,'XP Tables'!$K$2:$L$7,2,TRUE) -> 600 | H27: =VLOOKUP(G27/$H$1,'XP Tables'!$O$2:$P$9,2,TRUE) -> Deadly
C28: R6: Armory | E28: - | F28: - | G28: - | H28: -
C29: R7: Storeroom and Work Area | E29: - | F29: - | G29: - | H29: -
C30: R8: Crevasse Cave | D30: Ssarnak | E30: =450 -> 450 | F30: 1 | G30: =$E30*VLOOKUP($F30,'XP Tables'!$K$2:$L$7,2,TRUE) -> 450 | H30: =VLOOKUP(G30/$H$1,'XP Tables'!$O$2:$P$9,2,TRUE) -> Deadly
C31: R9: Guard Barracks | D31: 4 Bugbear, Droop | E31: =4*200 -> 800 | F31: 4 | G31: =$E31*VLOOKUP($F31,'XP Tables'!$K$2:$L$7,2,TRUE) -> 1600 | H31: =VLOOKUP(G31/$H$1,'XP Tables'!$O$2:$P$9,2,TRUE) -> 4 x Deadly or more
C32: R10: Common Room | D32: 2 Redbrand Ruffian, 2 Bandit | E32: =2*100+2*25 -> 250 | F32: 4 | G32: =$E32*VLOOKUP($F32,'XP Tables'!$K$2:$L$7,2,TRUE) -> 500 | H32: =VLOOKUP(G32/$H$1,'XP Tables'!$O$2:$P$9,2,TRUE) -> Deadly
C33: R11: Wizard’s Workshop | D33: Zeond | E33: =200 -> 200 | F33: 1 | G33: =$E33*VLOOKUP($F33,'XP Tables'!$K$2:$L$7,2,TRUE) -> 200 | H33: =VLOOKUP(G33/$H$1,'XP Tables'!$O$2:$P$9,2,TRUE) -> Medium
C34: R12: Glasstaff’s Quarters | D34: Glasstaff | E34: =200 -> 200 | F34: 1 | G34: =$E34*VLOOKUP($F34,'XP Tables'!$K$2:$L$7,2,TRUE) -> 200 | H34: =VLOOKUP(G34/$H$1,'XP Tables'!$O$2:$P$9,2,TRUE) -> Medium
A36: Chapter 3: The Spider’s Web
A37: 3-01 Encounter Day 1-2 Stirges | B37: 32x20 | C37: Wilderness Encounters Day Roll 1-2 Stirges | D37: 3-6 Strige | E37: =6*25 -> 150 | F37: 6 | G37: =$E37*VLOOKUP($F37,'XP Tables'!$K$2:$L$7,2,TRUE) -> 300 | H37: =VLOOKUP(G37/$H$1,'XP Tables'!$O$2:$P$9,2,TRUE) -> Hard
A38: 3-02 Encounter Night 1-3 Stirges | B38: 32x20 | C38: Wilderness Encounters Night Roll 1-3 Stirges | D38: 3-6 Strige | E38: =6*25 -> 150 | F38: 6 | G38: =$E38*VLOOKUP($F38,'XP Tables'!$K$2:$L$7,2,TRUE) -> 300 | H38: =VLOOKUP(G38/$H$1,'XP Tables'!$O$2:$P$9,2,TRUE) -> Hard
A39: 3-03 Encounter Night 4 Ghouls | B39: 32x20 | C39: Wilderness Encounters Night Roll 4 Ghouls | D39: 2-5 Ghoul | E39: =5*200 -> 1000 | F39: 5 | G39: =$E39*VLOOKUP($F39,'XP Tables'!$K$2:$L$7,2,TRUE) -> 2000 | H39: =VLOOKUP(G39/$H$1,'XP Tables'!$O$2:$P$9,2,TRUE) -> 4 x Deadly or more
A40: 3-04 Encounter Day 3-4 Ogre | B40: 32x20 | C40: Wilderness Encounters Day Roll 3-4 Ogre | D40: Ogre | E40: =450 -> 450 | F40: 1 | G40: =$E40*VLOOKUP($F40,'XP Tables'!$K$2:$L$7,2,TRUE) -> 450 | H40: =VLOOKUP(G40/$H$1,'XP Tables'!$O$2:$P$9,2,TRUE) -> Deadly
A41: 3-05 Encounter Day 5-6 Goblins | B41: 32x20 | C41: Wilderness Encounters Day Roll 5-6 Goblins | D41: 4-8 Goblin, Goblin Boss | E41: =8*50+200 -> 600 | F41: 9 | G41: =$E41*VLOOKUP($F41,'XP Tables'!$K$2:$L$7,2,TRUE) -> 1500 | H41: =VLOOKUP(G41/$H$1,'XP Tables'!$O$2:$P$9,2,TRUE) -> 3 x Deadly
A42: 3-06 Encounter Night 5 Goblins | B42: 32x20 | C42: Wilderness Encounters Night Roll 5 Goblins | D42: 4-8 Goblin, Goblin Boss | E42: =8*50+200 -> 600 | F42: 9 | G42: =$E42*VLOOKUP($F42,'XP Tables'!$K$2:$L$7,2,TRUE) -> 1500 | H42: =VLOOKUP(G42/$H$1,'XP Tables'!$O$2:$P$9,2,TRUE) -> 3 x Deadly
A43: 3-07 Encounter Day 7-8 Hobgoblins | B43: 32x20 | C43: Wilderness Encounters Day Roll 7-8 Hobgoblins | D43: 4-7 Hobgoblin | E43: =7*100 -> 700 | F43: 7 | G43: =$E43*VLOOKUP($F43,'XP Tables'!$K$2:$L$7,2,TRUE) -> 1750 | H43: =VLOOKUP(G43/$H$1,'XP Tables'!$O$2:$P$9,2,TRUE) -> 4 x Deadly or more
...

Sheet Token List
A1: Creature | B1: # | C1: Size | D1: Space
A2: Aboleth | B2: 1 | C2: 2 | D2: 4
A3: Agatha | B3: 1 | C3: 1 | D3: 1 | E3: female banshee
A4: Ahooshathan | B4: 1 | C4: 1 | D4: 1 | E4: mind flayer
A5: Aida Camber | B5: 1 | C5: 1 | D5: 1 | E5: female human miner
A6: Ander | B6: 1 | C6: 1 | D6: 1 | E6: male halfling store clerk
A7: Animated Armor | B7: 2 | C7: 1 | D7: 2
A8: Animated Boulder | B8: 4 | C8: 1 | D8: 4
A9: Animated Chain | B9: 4 | C9: 1 | D9: 4
A10: Ash Zombie | B10: 6 | C10: 1 | D10: 6
A11: Ashripask | B11: 1 | C11: 1 | D11: 1 | E11: female arcanaloth
A12: Bandit | B12: 3 | C12: 1 | D12: 3
A13: Barlgura | B13: 1 | C13: 2 | D13: 4
A14: Bashudu | B14: 1 | C14: 1 | D14: 1 | E14: nothic
A15: Basilisk | B15: 2 | C15: 1 | D15: 2
A16: Behir | B16: 1 | C16: 3 | D16: 9
A17: Bessie | B17: 1 | C17: 1 | D17: 1 | E17: giant badger
A18: Blue Slaad | B18: 1 | C18: 2 | D18: 4
A19: Brelta Gemblade | B19: 1 | C19: 1 | D19: 1 | E19: female dwarf ghost
A20: Brughor Axe-Biter | B20: 1 | C20: 1 | D20: 1 | E20: male orc
A21: Bugbear | B21: 6 | C21: 1 | D21: 6
A22: Cameren | B22: 1 | C22: 1 | D22: 1 | E22: galeb duhr
A23: Carp | B23: 1 | C23: 1 | D23: 1
A24: Cathlette Camber | B24: 1 | C24: 1 | D24: 1 | E24: female human miner
A25: Chalaag | B25: 1 | C25: 1 | D25: 1 | E25: gray slaad
A26: Charnyz | B26: 1 | C26: 2 | D26: 4 | E26: female spirit naga
A27: Chishinix | B27: 1 | C27: 1 | D27: 1 | E27: female mind flayer clairvoyant
A28: Chuul | B28: 4 | C28: 2 | D28: 16
A29: Clay Golem | B29: 1 | C29: 2 | D29: 4
A30: Cloaker Mutate | B30: 1 | C30: 2 | D30: 4
A31: Commoner Female | B31: 5 | C31: 1 | D31: 5
A32: Commoner Male | B32: 5 | C32: 1 | D32: 5
A33: Crypt Guardian | B33: 6 | C33: 1 | D33: 6
A34: Cultist | B34: 5 | C34: 1 | D34: 5
A35: Daisy | B35: 1 | C35: 2 | D35: 4 | E35: Cow
A36: Daran Edermath | B36: 1 | C36: 1 | D36: 1 | E36: male drow (half elf) farmer
A37: Draft Horse | B37: 2 | C37: 2 | D37: 8
A38: Droop | B38: 1 | C38: 1 | D38: 1 | E38: male goblin wheelwright/scavenger
A39: Drow Female | B39: 0 | C39: 1 | D39: 0
A40: Drow Male | B40: 1 | C40: 1 | D40: 1
...

Sheet XP Tables
A1: Character Level | B1: ----- Encounter Difficulty ----- | K1: Number of Monsters | L1: Multiplier | O1: ='Encounters List'!F1 -> 1 | P1: Difficulty
B2: Easy | C2: Medium | D2: Hard | E2: Deadly | F2: 2 x Deadly | G2: 3 x Deadly | H2: 4 x Deadly | K2: 1 | L2: 1 | O2: 0 | P2: Trivial
A3: 1 | B3: 25 | C3: 50 | D3: 75 | E3: 100 | F3: =E3*2 -> 200 | G3: =E3*3 -> 300 | H3: =E3*4 -> 400 | K3: 2 | L3: 1.5 | O3: =LOOKUP($O$1,$A$3:$A$22,$B$3:$B$22) -> 25 | P3: Easy
A4: 2 | B4: 50 | C4: 100 | D4: 150 | E4: 200 | F4: =E4*2 -> 400 | G4: =E4*3 -> 600 | H4: =E4*4 -> 800 | K4: 3 | L4: 2 | O4: =LOOKUP($O$1,$A$3:$A$22,$C$3:$C$22) -> 50 | P4: Medium
A5: 3 | B5: 75 | C5: 150 | D5: 225 | E5: 400 | F5: =E5*2 -> 800 | G5: =E5*3 -> 1200 | H5: =E5*4 -> 1600 | K5: 7 | L5: 2.5 | O5: =LOOKUP($O$1,$A$3:$A$22,$D$3:$D$22) -> 75 | P5: Hard
A6: 4 | B6: 125 | C6: 250 | D6: 375 | E6: 500 | F6: =E6*2 -> 1000 | G6: =E6*3 -> 1500 | H6: =E6*4 -> 2000 | K6: 11 | L6: 3 | O6: =LOOKUP($O$1,$A$3:$A$22,$E$3:$E$22) -> 100 | P6: Deadly
A7: 5 | B7: 250 | C7: 500 | D7: 750 | E7: 1100 | F7: =E7*2 -> 2200 | G7: =E7*3 -> 3300 | H7: =E7*4 -> 4400 | K7: 15 | L7: 4 | O7: =LOOKUP($O$1,$A$3:$A$22,$F$3:$F$22) -> 200 | P7: 2 x Deadly
A8: 6 | B8: 300 | C8: 600 | D8: 900 | E8: 1400 | F8: =E8*2 -> 2800 | G8: =E8*3 -> 4200 | H8: =E8*4 -> 5600 | O8: =LOOKUP($O$1,$A$3:$A$22,$G$3:$G$22) -> 300 | P8: 3 x Deadly
A9: 7 | B9: 350 | C9: 750 | D9: 1100 | E9: 1700 | F9: =E9*2 -> 3400 | G9: =E9*3 -> 5100 | H9: =E9*4 -> 6800 | O9: =LOOKUP($O$1,$A$3:$A$22,$H$3:$H$22) -> 400 | P9: 4 x Deadly or more
A10: 8 | B10: 450 | C10: 900 | D10: 1400 | E10: 2100 | F10: =E10*2 -> 4200 | G10: =E10*3 -> 6300 | H10: =E10*4 -> 8400
A11: 9 | B11: 550 | C11: 1100 | D11: 1600 | E11: 2400 | F11: =E11*2 -> 4800 | G11: =E11*3 -> 7200 | H11: =E11*4 -> 9600
A12: 10 | B12: 600 | C12: 1200 | D12: 1900 | E12: 2800 | F12: =E12*2 -> 5600 | G12: =E12*3 -> 8400 | H12: =E12*4 -> 11200
A13: 11 | B13: 800 | C13: 1600 | D13: 2400 | E13: 3600 | F13: =E13*2 -> 7200 | G13: =E13*3 -> 10800 | H13: =E13*4 -> 14400
A14: 12 | B14: 1000 | C14: 2000 | D14: 3000 | E14: 4500 | F14: =E14*2 -> 9000 | G14: =E14*3 -> 13500 | H14: =E14*4 -> 18000
A15: 13 | B15: 1100 | C15: 2200 | D15: 3400 | E15: 5100 | F15: =E15*2 -> 10200 | G15: =E15*3 -> 15300 | H15: =E15*4 -> 20400
A16: 14 | B16: 1250 | C16: 2500 | D16: 3800 | E16: 5700 | F16: =E16*2 -> 11400 | G16: =E16*3 -> 17100 | H16: =E16*4 -> 22800
A17: 15 | B17: 1400 | C17: 2800 | D17: 4300 | E17: 6400 | F17: =E17*2 -> 12800 | G17: =E17*3 -> 19200 | H17: =E17*4 -> 25600
A18: 16 | B18: 1600 | C18: 3200 | D18: 4800 | E18: 7200 | F18: =E18*2 -> 14400 | G18: =E18*3 -> 21600 | H18: =E18*4 -> 28800
A19: 17 | B19: 2000 | C19: 3900 | D19: 5900 | E19: 8800 | F19: =E19*2 -> 17600 | G19: =E19*3 -> 26400 | H19: =E19*4 -> 35200
A20: 18 | B20: 2100 | C20: 4200 | D20: 6300 | E20: 9500 | F20: =E20*2 -> 19000 | G20: =E20*3 -> 28500 | H20: =E20*4 -> 38000
A21: 19 | B21: 2400 | C21: 4900 | D21: 7300 | E21: 10900 | F21: =E21*2 -> 21800 | G21: =E21*3 -> 32700 | H21: =E21*4 -> 43600
A22: 20 | B22: 2800 | C22: 5700 | D22: 8500 | E22: 12700 | F22: =E22*2 -> 25400 | G22: =E22*3 -> 38100 | H22: =E22*4 -> 50800

Sheet Maps
A1: Map Lists | E1: 2-01 Alderleaf Farm 32x20
A2: 2-01 Phandalin Town Centre 120x120 | B2: 2-01 Phandalin Town Centre 120x120 | C2: 2-02 Tresendar Manor 32x20 | D2: 6-07 Mudslick Tower 32x10 | E2: 2-01 Barthens Provisions 32x20
A3: 2-02 Tresendar Manor 32x20 | B3: 5-01 Phandalin Town Centre 120x120 | C3: 3-01 Encounter Day 1-2 Stirges 32x20 | E3: 2-01 Edermath Orchard 32x20
A4: 3-01 Encounter Day 1-2 Stirges 32x20 | B4: 6-01 Phandalin Town Centre 120x120 | C4: 3-02 Encounter Night 1-3 Stirges 32x20 | E4: 2-01 Lionshield Coster 32x20
A5: 3-02 Encounter Night 1-3 Stirges 32x20 | B5: 7-01 Phandalin Town Centre 120x120 | C5: 3-03 Encounter Night 4 Ghouls 32x20 | E5: 2-01 Phandalin Miners Exchange 32x20
A6: 3-03 Encounter Night 4 Ghouls 32x20 | B6: 8-01 Phandalin Town Centre 120x120 | C6: 3-04 Encounter Day 3-4 Ogre 32x20 | E6: 2-01 Shrine of Luck 32x20
A7: 3-04 Encounter Day 3-4 Ogre 32x20 | C7: 3-05 Encounter Day 5-6 Goblins 32x20 | E7: 2-01 Sleeping Giant 32x20
A8: 3-05 Encounter Day 5-6 Goblins 32x20 | C8: 3-06 Encounter Night 5 Goblins 32x20 | E8: 2-01 Sleeping Giant Floors 16x20
A9: 3-06 Encounter Night 5 Goblins 32x20 | C9: 3-07 Encounter Day 7-8 Hobgoblins 32x20 | E9: 2-01 Smithy 16x20
A10: 3-07 Encounter Day 7-8 Hobgoblins 32x20 | C10: 3-08 Encounter Night 6 Hobgoblins 32x20 | E10: 2-01 Stonehill Inn 2nd floor 16x10
A11: 3-08 Encounter Night 6 Hobgoblins 32x20 | C11: 3-09 Encounter Day 9-10 Bugbears 32x20 | E11: 2-01 Stonehill Inn 32x20
A12: 3-09 Encounter Day 9-10 Bugbears 32x20 | C12: 3-10 Encounter Night 7-8 Bugbears 32x20 | E12: 2-01 Town Green 32x20
A13: 3-10 Encounter Night 7-8 Bugbears 32x20 | C13: 3-11 Encounter Day 11 Wolves 32x20 | E13: 2-01 Townmasters Hall 32x20
A14: 3-11 Encounter Day 11 Wolves 32x20 | C14: 3-12 Encounter Night 9-10 Wolves 32x20 | E14: 2-01 Townmasters Hall Cellar 16x10
A15: 3-12 Encounter Night 9-10 Wolves 32x20 | C15: 3-13 Encounter Day 12 Owlbear 32x20 | E15: 2-01 Woodworker 16x20
A16: 3-13 Encounter Day 12 Owlbear 32x20 | C16: 3-14 Encounter Night 11-12 Owlbear 32x20 | E16: 2-02 Tresendar Manor 32x20
A17: 3-14 Encounter Night 11-12 Owlbear 32x20 | C17: 3-15 Conyberry 32x20 | E17: 3-01 Encounter Day 1-2 Stirges 32x20
A18: 3-15 Conyberry 32x20 | C18: 3-16 Agathas Lair 32x20 | E18: 3-02 Encounter Night 1-3 Stirges 32x20
... A28: 7-06 Encounter 6 Hook Horrors 32x20 | C28: 8-03 Endless Void Intellect Snares 32x20 | E28: 3-12 Encounter Night 9-10 Wolves 32x20
A29: 7-07 Encounter 7 Quaggoths 32x20 | E29: 3-13 Encounter Day 12 Owlbear 32x20
A30: 7-08 Encounter 8 Trogs and Barlgura 32x20 | E30: 3-14 Encounter Night 11-12 Owlbear 32x20
A31: 7-09 Encounter 9 Shriekers 32x20 | E31: 3-15 Conyberry 32x20
A32: 7-10 Tunnel Long Rest 32x20 | E32: 3-16 Agathas Lair 32x20
A33: 8-01 Phandalin Town Centre 120x120 | E33: 5-01 Alderleaf Farm 32x20
A34: 8-03 Endless Void Intellect Snares 32x20 | E34: 5-01 Barthens Provisions 32x20
E35: 5-01 Edermath Orchard 32x20
E36: 5-01 Harbin Westers Home 16x20
E37: 5-01 Lionshield Coster 32x20
E38: 5-01 Phandalin Miners Exchange 32x20
E39: 5-01 Shrine of Luck 32x20
E40: 5-01 Sleeping Giant 32x20
E41: 5-01 Sleeping Giant Floors 16x20
E42: 5-01 Smithy 16x20
E43: 5-01 Stonehill Inn 2nd floor 16x10
E44: 5-01 Stonehill Inn 32x20
E45: 5-01 Town Green 32x20
E46: 5-01 Townmasters Hall 32x20
... E105: 8-03 Endless Void Intellect Snares 32x20
